BEGIN:VCALENDAR
VERSION:2.0
PRODID:-//West Texas Photographic Society - ECPv6.15.20//NONSGML v1.0//EN
CALSCALE:GREGORIAN
METHOD:PUBLISH
X-WR-CALNAME:West Texas Photographic Society
X-ORIGINAL-URL:https://westtexasphotographicsociety.com
X-WR-CALDESC:Events for West Texas Photographic Society
REFRESH-INTERVAL;VALUE=DURATION:PT1H
X-Robots-Tag:noindex
X-PUBLISHED-TTL:PT1H
BEGIN:VTIMEZONE
TZID:America/Chicago
BEGIN:DAYLIGHT
TZOFFSETFROM:-0600
TZOFFSETTO:-0500
TZNAME:CDT
DTSTART:20250309T080000
END:DAYLIGHT
BEGIN:STANDARD
TZOFFSETFROM:-0500
TZOFFSETTO:-0600
TZNAME:CST
DTSTART:20251102T070000
END:STANDARD
BEGIN:DAYLIGHT
TZOFFSETFROM:-0600
TZOFFSETTO:-0500
TZNAME:CDT
DTSTART:20260308T080000
END:DAYLIGHT
BEGIN:STANDARD
TZOFFSETFROM:-0500
TZOFFSETTO:-0600
TZNAME:CST
DTSTART:20261101T070000
END:STANDARD
BEGIN:DAYLIGHT
TZOFFSETFROM:-0600
TZOFFSETTO:-0500
TZNAME:CDT
DTSTART:20270314T080000
END:DAYLIGHT
BEGIN:STANDARD
TZOFFSETFROM:-0500
TZOFFSETTO:-0600
TZNAME:CST
DTSTART:20271107T070000
END:STANDARD
END:VTIMEZONE
BEGIN:VEVENT
DTSTART;VALUE=DATE:20260507
DTEND;VALUE=DATE:20260511
DTSTAMP:20260423T160657
CREATED:20260228T160138Z
LAST-MODIFIED:20260312T022424Z
UID:1307-1778112000-1778457599@westtexasphotographicsociety.com
SUMMARY:2026 Western Heritage Classic
DESCRIPTION:2026 Western Heritage Classic\nMay 7 – May 10\, 2026\nEvents Located at the Fairgrounds\nSee the Western Heritage Classic Website for a Schedule of Events (link provided below)\n 
URL:https://westtexasphotographicsociety.com/event/2026-western-heritage-classic/
LOCATION:West Texas Fairgrounds\, 1700 TX-36\, Abilene\, TX\, 79602\, United States
CATEGORIES:Photography Opportunity
ATTACH;FMTTYPE=image/jpeg:https://westtexasphotographicsociety.com/wp-content/uploads/2025/11/ca_Bullet_gschneller.jpg
END:VEVENT
END:VCALENDAR