BEGIN:VCALENDAR
VERSION:2.0
PRODID:-//West Texas Photographic Society - ECPv6.15.20//NONSGML v1.0//EN
CALSCALE:GREGORIAN
METHOD:PUBLISH
X-ORIGINAL-URL:https://westtexasphotographicsociety.com
X-WR-CALDESC:Events for West Texas Photographic Society
REFRESH-INTERVAL;VALUE=DURATION:PT1H
X-Robots-Tag:noindex
X-PUBLISHED-TTL:PT1H
BEGIN:VTIMEZONE
TZID:America/Chicago
BEGIN:DAYLIGHT
TZOFFSETFROM:-0600
TZOFFSETTO:-0500
TZNAME:CDT
DTSTART:20250309T080000
END:DAYLIGHT
BEGIN:STANDARD
TZOFFSETFROM:-0500
TZOFFSETTO:-0600
TZNAME:CST
DTSTART:20251102T070000
END:STANDARD
BEGIN:DAYLIGHT
TZOFFSETFROM:-0600
TZOFFSETTO:-0500
TZNAME:CDT
DTSTART:20260308T080000
END:DAYLIGHT
BEGIN:STANDARD
TZOFFSETFROM:-0500
TZOFFSETTO:-0600
TZNAME:CST
DTSTART:20261101T070000
END:STANDARD
BEGIN:DAYLIGHT
TZOFFSETFROM:-0600
TZOFFSETTO:-0500
TZNAME:CDT
DTSTART:20270314T080000
END:DAYLIGHT
BEGIN:STANDARD
TZOFFSETFROM:-0500
TZOFFSETTO:-0600
TZNAME:CST
DTSTART:20271107T070000
END:STANDARD
END:VTIMEZONE
BEGIN:VEVENT
DTSTART;TZID=America/Chicago:20260416T173000
DTEND;TZID=America/Chicago:20260416T193000
DTSTAMP:20260423T153257
CREATED:20250317T154602Z
LAST-MODIFIED:20260403T200720Z
UID:506-1776360600-1776367800@westtexasphotographicsociety.com
SUMMARY:April 2026 Monthly Meeting
DESCRIPTION:April 2026 Monthly Meeting\nSpecial Program with WTPS members Linda Buckman\, Larry Smith\, and Royce Hargrove\nThursday\, April 16\, 2026 at 5:30 PM\nCenter For Contemporary Arts\nLinda Buckman\, Larry Smith\, and Royce Hargrove will be sharing 10 of their favorite images.  They will share the story behind the photograph and what specifically caught their attention to take the photograph as well as photographic decisions they made when making the photograph.  We hope this will generate a lot of participation from those in attendance as we discuss each of the photographs.
URL:https://westtexasphotographicsociety.com/event/april-monthly-meeting/
LOCATION:Center For Contemporary Arts\, 220 Cypress St\, Abilene\, TX\, 79601\, United States
CATEGORIES:Monthly Meeting,Special Program
ATTACH;FMTTYPE=image/jpeg:https://westtexasphotographicsociety.com/wp-content/uploads/2025/03/13-bwo_The-Old-Homstead_jpacker_20231209_1305_2400px.jpg
ORGANIZER;CN="WTPS":MAILTO:info@westtexasphotographicsociety.com
END:VEVENT
END:VCALENDAR