BEGIN:VCALENDAR
VERSION:2.0
PRODID:-//West Texas Photographic Society - ECPv6.15.20//NONSGML v1.0//EN
CALSCALE:GREGORIAN
METHOD:PUBLISH
X-ORIGINAL-URL:https://westtexasphotographicsociety.com
X-WR-CALDESC:Events for West Texas Photographic Society
REFRESH-INTERVAL;VALUE=DURATION:PT1H
X-Robots-Tag:noindex
X-PUBLISHED-TTL:PT1H
BEGIN:VTIMEZONE
TZID:America/Chicago
BEGIN:DAYLIGHT
TZOFFSETFROM:-0600
TZOFFSETTO:-0500
TZNAME:CDT
DTSTART:20250309T080000
END:DAYLIGHT
BEGIN:STANDARD
TZOFFSETFROM:-0500
TZOFFSETTO:-0600
TZNAME:CST
DTSTART:20251102T070000
END:STANDARD
BEGIN:DAYLIGHT
TZOFFSETFROM:-0600
TZOFFSETTO:-0500
TZNAME:CDT
DTSTART:20260308T080000
END:DAYLIGHT
BEGIN:STANDARD
TZOFFSETFROM:-0500
TZOFFSETTO:-0600
TZNAME:CST
DTSTART:20261101T070000
END:STANDARD
BEGIN:DAYLIGHT
TZOFFSETFROM:-0600
TZOFFSETTO:-0500
TZNAME:CDT
DTSTART:20270314T080000
END:DAYLIGHT
BEGIN:STANDARD
TZOFFSETFROM:-0500
TZOFFSETTO:-0600
TZNAME:CST
DTSTART:20271107T070000
END:STANDARD
END:VTIMEZONE
BEGIN:VEVENT
DTSTART;TZID=America/Chicago:20260602T110000
DTEND;TZID=America/Chicago:20260602T170000
DTSTAMP:20260423T172959
CREATED:20260228T151825Z
LAST-MODIFIED:20260228T151825Z
UID:1295-1780398000-1780419600@westtexasphotographicsociety.com
SUMMARY:Deliver Framed Exhibition Photographs
DESCRIPTION:Deliver Framed Photographs For 2026 Annual Exhibit\nJune 2 – June 6\, 2026\n11:00 – 5:00 PM\nThe Center For Contemporary Arts
URL:https://westtexasphotographicsociety.com/event/deliver-framed-exhibition-photographs/
LOCATION:TX
CATEGORIES:Annual Exhibit
ATTACH;FMTTYPE=image/jpeg:https://westtexasphotographicsociety.com/wp-content/uploads/2025/11/co_country_castle_stulcus.jpg
END:VEVENT
BEGIN:VEVENT
DTSTART;VALUE=DATE:20260605
DTEND;VALUE=DATE:20260608
DTSTAMP:20260423T172959
CREATED:20260312T022246Z
LAST-MODIFIED:20260312T023340Z
UID:1364-1780617600-1780876799@westtexasphotographicsociety.com
SUMMARY:Wild Horse Prairie Days - Haskell\, Tx
DESCRIPTION:Wild Horse Prairie Days\n(WHPD) 2026 in Haskell\, Texas\, is scheduled for June 5th-7th\, 2026. This event\, sanctioned by the Working Ranch Cowboys Association\, features a 2-day ranch rodeo\, RHAA ranch horse show\, trade show\, parade\, and a Chuck Wagon meal.\nWRCA RANCH RODEO\, RHAA HORSE SHOW\, MEMORIAL TEAM ROPING\, DOUBLE MUGGING\, ULTIMATE CALF ROPING\, CALF SCRAMBLE\, TRADE SHOW & PARADE\nHoward Hopkins Memorial Arena\nJune 5th-7th 2026\nHaskell\, Texas
URL:https://westtexasphotographicsociety.com/event/wild-horse-prairie-days-haskell-tx/
LOCATION:Howard Hopkins Memorial Arena\, 301 S Ave B.\, Haskell\, TX\, 79521\, United States
CATEGORIES:Photography Opportunity
ATTACH;FMTTYPE=image/jpeg:https://westtexasphotographicsociety.com/wp-content/uploads/2026/03/20160604-_D408279.jpg
END:VEVENT
BEGIN:VEVENT
DTSTART;TZID=America/Chicago:20260612T113000
DTEND;TZID=America/Chicago:20260612T170000
DTSTAMP:20260423T172959
CREATED:20260228T024115Z
LAST-MODIFIED:20260228T151952Z
UID:1250-1781263800-1781283600@westtexasphotographicsociety.com
SUMMARY:2026 WTPS Annual Exhibit Opens
DESCRIPTION:2026 West Texas Photographic Society Annual Exhibit\nJune 12 – July 25\, 2026\nThe Center For Contemporary Arts
URL:https://westtexasphotographicsociety.com/event/wtps-annual-exhibit/
LOCATION:Center For Contemporary Arts\, 220 Cypress St\, Abilene\, TX\, 79601\, United States
CATEGORIES:Annual Exhibit
ATTACH;FMTTYPE=image/jpeg:https://westtexasphotographicsociety.com/wp-content/uploads/2025/03/1-EA-Double-Time-Sandra-Hastings.jpg
END:VEVENT
BEGIN:VEVENT
DTSTART;TZID=America/Chicago:20260618T173000
DTEND;TZID=America/Chicago:20260618T193000
DTSTAMP:20260423T172959
CREATED:20250317T161053Z
LAST-MODIFIED:20260301T025654Z
UID:510-1781803800-1781811000@westtexasphotographicsociety.com
SUMMARY:June 2026 Monthly Meeting
DESCRIPTION:June 2026 Monthly Meeting\nGallery Talk\nThursday\, June 18\, 2025 at 5:30 PM\nCenter For Contemporary Arts
URL:https://westtexasphotographicsociety.com/event/june-monthly-meeting/
LOCATION:Center For Contemporary Arts\, 220 Cypress St\, Abilene\, TX\, 79601\, United States
CATEGORIES:Gallery Talk,Monthly Meeting
ATTACH;FMTTYPE=image/jpeg:https://westtexasphotographicsociety.com/wp-content/uploads/2025/07/ea_Enhanced-Circles_David-Bridges.jpg
ORGANIZER;CN="WTPS":MAILTO:info@westtexasphotographicsociety.com
END:VEVENT
BEGIN:VEVENT
DTSTART;TZID=America/Chicago:20260619T170000
DTEND;TZID=America/Chicago:20260619T190000
DTSTAMP:20260423T172959
CREATED:20260228T024333Z
LAST-MODIFIED:20260228T154542Z
UID:1253-1781888400-1781895600@westtexasphotographicsociety.com
SUMMARY:2026 WTPS Annual Exhibit Reception
DESCRIPTION:WTPS Annual Exhibit Reception\n\nJune 19\, 2026\n\n5:00 – 7:00 PM\n\nThe Center For Contemporary Arts
URL:https://westtexasphotographicsociety.com/event/2026-wtps-annual-exhibit-reception/
LOCATION:TX
ATTACH;FMTTYPE=image/jpeg:https://westtexasphotographicsociety.com/wp-content/uploads/2025/11/bwa_driven_gschneller.jpg
END:VEVENT
END:VCALENDAR